BEGIN:VCALENDAR
VERSION:2.0
PRODID:icalendar-ruby
CALSCALE:GREGORIAN
METHOD:PUBLISH
BEGIN:VEVENT
DTSTAMP:20260420T033207Z
UID:38-951132@gracetown.org
DTSTART:20260806T010000Z
DTEND:20260806T030000Z
CLASS:PUBLIC
CREATED:20260419T185050
DESCRIPTION:
LAST-MODIFIED:20260419T185050
LOCATION:
SUMMARY:Mens Study
URL;VALUE=URI:https://www.gracetown.org/events/mens-study/2026-08-05
ATTACH;FILENAME=AEEC21EF-48C9-445E-A39C-FA2488EDF342.jpeg;FMTTYPE=image/jpe
 g:https://dq5pwpg1q8ru0.cloudfront.net/2021/12/26/18/52/20/73d33bca-6564-4
 8b7-9b08-9fbc9373bf8e/AEEC21EF-48C9-445E-A39C-FA2488EDF342.jpeg
END:VEVENT
END:VCALENDAR
