BEGIN:VCALENDAR
VERSION:2.0
PRODID:icalendar-ruby
CALSCALE:GREGORIAN
METHOD:PUBLISH
BEGIN:VEVENT
DTSTAMP:20260421T170454Z
UID:12-956615@gracetown.org
DTSTART:20260913T170000Z
DTEND:20260913T180000Z
CLASS:PUBLIC
CREATED:20260421T085708
DESCRIPTION:Sunday Worship
LAST-MODIFIED:20260421T085708
LOCATION:401 W. Country Club Dr. Brentwood\, CA
SUMMARY:Sunday Worship
URL;VALUE=URI:https://www.gracetown.org/events/sunday-worship/2026-09-13
ATTACH;FILENAME=D95AD913-7AB5-41EA-ADBA-BA8312B8F55B.jpeg;FMTTYPE=image/jpe
 g:https://dq5pwpg1q8ru0.cloudfront.net/2021/07/25/12/26/35/089cbaed-9b48-4
 3a7-b805-f3180b29b3a8/D95AD913-7AB5-41EA-ADBA-BA8312B8F55B.jpeg
END:VEVENT
END:VCALENDAR
